BEGIN:VCALENDAR
VERSION:2.0
PRODID:-//BurnT - ECPv4.6.6//NONSGML v1.0//EN
CALSCALE:GREGORIAN
METHOD:PUBLISH
X-WR-CALNAME:BurnT
X-ORIGINAL-URL:http://burntoronto.ca
X-WR-CALDESC:Events for BurnT
BEGIN:VEVENT
DTSTART;TZID=UTC+0:20190718T190000
DTEND;TZID=UTC+0:20190718T213000
DTSTAMP:20260423T183309
CREATED:20150325T145211Z
LAST-MODIFIED:20190626T162529Z
UID:845-1563476400-1563485400@burntoronto.ca
SUMMARY:Toronto Burning Man Newbie Night
DESCRIPTION: \n\n\n\n\n\n\nHeading to Burning Man this year? Come out to to the new burner’s night to get your questions answered! Already an experienced Burner? Why not come out and share your wisdom?\n\n\n\n\n\n\n\n\n\n\n\n
URL:http://burntoronto.ca/event/550920611919857-newbie-night-2-the-second-cumming/
LOCATION:152a Augusta Ave\, Toronto\, Onario\, Canada
END:VEVENT
END:VCALENDAR